BEGIN:VCALENDAR
VERSION:2.0
PRODID:-//goodnestone.org.uk - ECPv6.15.20//NONSGML v1.0//EN
CALSCALE:GREGORIAN
METHOD:PUBLISH
X-WR-CALNAME:goodnestone.org.uk
X-ORIGINAL-URL:https://goodnestone.org.uk
X-WR-CALDESC:Events for goodnestone.org.uk
REFRESH-INTERVAL;VALUE=DURATION:PT1H
X-Robots-Tag:noindex
X-PUBLISHED-TTL:PT1H
BEGIN:VTIMEZONE
TZID:Europe/London
BEGIN:DAYLIGHT
TZOFFSETFROM:+0000
TZOFFSETTO:+0100
TZNAME:BST
DTSTART:20250330T010000
END:DAYLIGHT
BEGIN:STANDARD
TZOFFSETFROM:+0100
TZOFFSETTO:+0000
TZNAME:GMT
DTSTART:20251026T010000
END:STANDARD
BEGIN:DAYLIGHT
TZOFFSETFROM:+0000
TZOFFSETTO:+0100
TZNAME:BST
DTSTART:20260329T010000
END:DAYLIGHT
BEGIN:STANDARD
TZOFFSETFROM:+0100
TZOFFSETTO:+0000
TZNAME:GMT
DTSTART:20261025T010000
END:STANDARD
BEGIN:DAYLIGHT
TZOFFSETFROM:+0000
TZOFFSETTO:+0100
TZNAME:BST
DTSTART:20270328T010000
END:DAYLIGHT
BEGIN:STANDARD
TZOFFSETFROM:+0100
TZOFFSETTO:+0000
TZNAME:GMT
DTSTART:20271031T010000
END:STANDARD
END:VTIMEZONE
BEGIN:VEVENT
DTSTART;TZID=Europe/London:20260819T190000
DTEND;TZID=Europe/London:20260819T210000
DTSTAMP:20260420T151056
CREATED:20260409T110841Z
LAST-MODIFIED:20260409T111248Z
UID:2627-1787166000-1787173200@goodnestone.org.uk
SUMMARY:'Romeo and Juliet' at Goodnestone Park
DESCRIPTION:For more details or to book\, please visit the Goodnestone Park events page.
URL:https://goodnestone.org.uk/event/romeo-and-juliet-at-goodnestone-park/
END:VEVENT
END:VCALENDAR